Workbook

Sheet Letter of Financial Support
G1: Office of International Services, Shibaura Institute of Technology
A2: Financial Support Plan for Study in Japan (Letter of Financial Support)
A3: To the President of Shibaura Institute of Technology
A4: Applicant's Full Name (as shown on passport) | D4: Name of your home institution, country
A6: Program (Please select your program) | D6: Date of Birth(dd/mm/yyyy)
A7: Major(Enter your major/department at your home university.) | D7: Nationality
A8: Please read the following instructions and check the box.
A9: □ I pledge that sufficient funds are available to cover the total expenses required for my study at Shibaura Institute of Technology.
A10: <Financial Supporter> Please indicate who will cover the expenses for your entire study period by selecting the applicable option and completing the required information in the corresponding yellow cells (①, ②, ③, and/or ④). <Currency> If your currency is not available in the drop-down list, please select JPY (Japanese Yen) or USD (U.S. Dollar). In that case, enter the amount converted from your local currency into JPY or USD in the appropriate yellow cell. You must also submit supporting documents, such as a bank balance certificate, showing the equivalent amount in JPY or USD.
A11: <Calculation of Required Funds> First, calculate and confirm the total amount of funds required for your entire study period. Then indicate how the total amount will be financed by selecting the applicable option(s) and completing the required information in the corresponding yellow cells. Do not include any fees that will be waived, such as tuition waivers. Please calculate the total cost of your study period using the following formula: Admission Fee + Student Support and Campus Facilities Fee + Tuition Fee + Living Expenses (JPY 130,000 × number of months of stay) For the SDW Program, calculate living expenses based on 5 months for one semester and 11 months for two semesters. For REP program, please calculate based on your total period of stay in Japan (number of months).
A12: Financial Supporter (check all that apply) | B12: Details of Financial Support | D12: Amount (Foreign Currency) | E12: Currency(Please select) | F12: JPY Conversion Rate per Currency Unit | G12: JPY Equivalent (Do not enter. Calculated automatically.)
A13: ☐ Supported by the Applicant | B13: ① Personal Savings | E13: EUR | F13: =_xlfn.XLOOKUP(E13,レート表!$A$2:$A$18,レート表!$C$2:$C$18,"") -> 178.92 | G13: =IF(OR(D13="",F13=""),"",ROUND(D13*F13,0))
B14: ② Other (Details, if any: ) | E14: EUR | F14: =_xlfn.XLOOKUP(E14,レート表!$A$2:$A$18,レート表!$C$2:$C$18,"") -> 178.92 | G14: =IF(OR(D14="",F14=""),"",ROUND(D14*F14,0))
A15: ☐ Supported by Person(s) Other than the Applicant | B15: ③-1 Parent or Relative, etc. (Relationship: ) | E15: EUR | F15: =_xlfn.XLOOKUP(E15,レート表!$A$2:$A$18,レート表!$C$2:$C$18,"") -> 178.92 | G15: =IF(OR(D15="",F15=""),"",ROUND(D15*F15,0))
B16: ③-2 Parent or Relative, etc. (Relationship: ) | E16: EUR | F16: =_xlfn.XLOOKUP(E16,レート表!$A$2:$A$18,レート表!$C$2:$C$18,"") -> 178.92
B17: ③-3 Parent or Relative, etc. (Relationship: ) | E17: EUR | F17: =_xlfn.XLOOKUP(E17,レート表!$A$2:$A$18,レート表!$C$2:$C$18,"") -> 178.92
B18: ④ Government or Other Foundation * Attach the original scholarship award certificate (scanned copy) to this document when submitting. | E18: EUR | F18: =_xlfn.XLOOKUP(E18,レート表!$A$2:$A$18,レート表!$C$2:$C$18,"") -> 178.92 | G18: =IF(OR(D18="",F18=""),"",ROUND(D18*F18,0))
E19: EUR | F19: =_xlfn.XLOOKUP(E19,レート表!$A$2:$A$18,レート表!$C$2:$C$18,"") -> 178.92 | G19: =IF(OR(D19="",F19=""),"",ROUND(D19*F19,0))
E20: EUR | F20: =_xlfn.XLOOKUP(E20,レート表!$A$2:$A$18,レート表!$C$2:$C$18,"") -> 178.92
E21: EUR | F21: =_xlfn.XLOOKUP(E21,レート表!$A$2:$A$18,レート表!$C$2:$C$18,"") -> 178.92 | G21: =IF(OR(D21="",F21=""),"",ROUND(D21*F21,0))
A22: Total (①–④) | G22: =SUM(G13:G21) -> 0
A23: Note:The exchange rates used for currency conversion are standardized rates determined by SIT based on exchange rates as of October 2026.
A25: If category ③ above applies, enter financial supporter’s information in yellow cell. If there are multiple financial supporters, enter all.
A26: * The financial supporter must sign this form personally.
A28: Financial Supporter 1
A29: I, (Finalcial supporter's full name), hereby pledge to financially support the above applicant during their stay in Japan as specified below.
A30: When applying for an extension of the period of stay, I will submit documents proving the provision of living expenses and other support, such as remittance receipts or a copy of a bankbook in the applicant’s name.
A31: Details
A32: Item | B32: * For items (1) and (3), please select the applicable option. | D32: Amount (Foreign Currency) | E32: Currency(Please select) | F32: JPY Conversion Rate per Currency Unit | G32: JPY Equivalent (Do not enter. Calculated automatically.)
A33: (1) Tuition | E33: USD | F33: =_xlfn.XLOOKUP(E33,レート表!$A$2:$A$18,レート表!$C$2:$C$18,"") -> 157.84 | G33: =IF(OR(D33="",F33=""),"",ROUND(D33*F33,0))
A34: (2) Living Expenses | B34: Monthly Amount | E34: JPY | F34: =_xlfn.XLOOKUP(E34,レート表!$A$2:$A$18,レート表!$C$2:$C$18,"") -> 1 | G34: =IF(OR(D34="",F34=""),"",ROUND(D34*F34,0))
A35: (3) Method of Support
A37: Financial Supporter Information
A38: Address | D38: Contact Details
A39: Name (Handwritten Signature) | B39: [Relationship to Applicant (same as ③-1 above): ]
A42: Financial Supporter 2
A43: I, (Finalcial supporter's full name), hereby pledge to financially support the above applicant during their stay in Japan as specified below.
A44: When applying for an extension of the period of stay, I will submit documents proving the provision of living expenses and other support, such as remittance receipts or a copy of a bankbook in the applicant’s name.
A45: Details
A46: Item | B46: * For items (1) and (3), please select the applicable option. | D46: Amount (Foreign Currency) | E46: Currency | F46: Exchange Rate (JPY/Currency) | G46: JPY Equivalent
...

Sheet SAMPLE EXAMPLE
G1: Office of International Services, Shibaura Institute of Technology
A2: Financial Support Plan for Study in Japan (Letter of Financial Support)
A3: To the President of Shibaura Institute of Technology
A4: Applicant's Full Name (as shown on passport) | B4: MIDORI SHIBAURA | D4: Name of your home institution, country | E4: Shibaura Instiutute of Technology, Japan
A6: Program (Please select your program) | B6: SDW_Sandwich Program | D6: Date of Birth(dd/mm/yyyy) | E6: 22/01/2007
A7: Major(Enter your major/department at your home university.) | B7: Department of Computer Science | D7: Nationality | E7: Japanese
A8: Please read the following instructions and check the box.
A9: ☑ I pledge that sufficient funds are available to cover the total expenses required for my study at Shibaura Institute of Technology.
A10: <Financial Supporter> Please indicate who will cover the expenses for your entire study period by selecting the applicable option and completing the required information in the corresponding yellow cells (①, ②, ③, and/or ④). <Currency> If your currency is not available in the drop-down list, please select JPY (Japanese Yen) or USD (U.S. Dollar). In that case, enter the amount converted from your local currency into JPY or USD in the appropriate yellow cell. You must also submit supporting documents, such as a bank balance certificate, showing the equivalent amount in JPY or USD.
A11: <Calculation of Required Funds> First, calculate and confirm the total amount of funds required for your entire study period. Then indicate how the total amount will be financed by selecting the applicable option(s) and completing the required information in the corresponding yellow cells. Do not include any fees that will be waived, such as tuition waivers. Please calculate the total cost of your study period using the following formula: Admission Fee + Student Support and Campus Facilities Fee + Tuition Fee + Living Expenses (JPY 130,000 × number of months of stay) For the SDW Program, calculate living expenses based on 5 months for one semester and 11 months for two semesters. For REP program, please calculate based on your total period of stay in Japan (number of months).
A12: Financial Supporter (check all that apply) | B12: Details of Financial Support | D12: Amount (Foreign Currency) | E12: Currency(Please select) | F12: JPY Conversion Rate per Currency Unit | G12: JPY Equivalent (Do not enter. Calculated automatically.)
A13: ☐ Supported by the Applicant | B13: ① Personal Savings | E13: EUR | F13: =_xlfn.XLOOKUP(E13,レート表!$A$2:$A$18,レート表!$C$2:$C$18,"") -> 178.92 | G13: =IF(OR(D13="",F13=""),"",ROUND(D13*F13,0))
B14: ② Other (Details, if any: ) | E14: EUR | F14: =_xlfn.XLOOKUP(E14,レート表!$A$2:$A$18,レート表!$C$2:$C$18,"") -> 178.92 | G14: =IF(OR(D14="",F14=""),"",ROUND(D14*F14,0))
A15: ☑Supported by Person(s) Other than the Applicant | B15: ③-1 Parent or Relative, etc. (Relationship: Father ) | D15: 3000 | E15: EUR | F15: =_xlfn.XLOOKUP(E15,レート表!$A$2:$A$18,レート表!$C$2:$C$18,"") -> 178.92 | G15: =IF(OR(D15="",F15=""),"",ROUND(D15*F15,0)) -> 536760
B16: ③-2 Parent or Relative, etc. (Relationship: ) | E16: EUR | F16: =_xlfn.XLOOKUP(E16,レート表!$A$2:$A$18,レート表!$C$2:$C$18,"") -> 178.92
B17: ③-3 Parent or Relative, etc. (Relationship: ) | E17: EUR | F17: =_xlfn.XLOOKUP(E17,レート表!$A$2:$A$18,レート表!$C$2:$C$18,"") -> 178.92
B18: ④ Government or Other Foundation * Attach the original scholarship award certificate (scanned copy) to this document when submitting. | C18: ABCD Foundation | D18: 8000 | E18: EUR | F18: =_xlfn.XLOOKUP(E18,レート表!$A$2:$A$18,レート表!$C$2:$C$18,"") -> 178.92 | G18: =IF(OR(D18="",F18=""),"",ROUND(D18*F18,0)) -> 1431360
E19: EUR | F19: =_xlfn.XLOOKUP(E19,レート表!$A$2:$A$18,レート表!$C$2:$C$18,"") -> 178.92 | G19: =IF(OR(D19="",F19=""),"",ROUND(D19*F19,0))
E20: EUR | F20: =_xlfn.XLOOKUP(E20,レート表!$A$2:$A$18,レート表!$C$2:$C$18,"") -> 178.92
E21: EUR | F21: =_xlfn.XLOOKUP(E21,レート表!$A$2:$A$18,レート表!$C$2:$C$18,"") -> 178.92 | G21: =IF(OR(D21="",F21=""),"",ROUND(D21*F21,0))
A22: Total (①–④) | G22: =SUM(G13:G21) -> 1968120
A23: Note:The exchange rates used for currency conversion are standardized rates determined by SIT based on exchange rates as of October 2026.
A25: If category ③ above applies, enter financial supporter’s information in yellow cell. If there are multiple financial supporters, enter all.
A26: * The financial supporter must sign this form personally.
A28: Financial Supporter 1
A29: I, (SHIBAURA TARO), hereby pledge to financially support the above applicant during their stay in Japan as specified below.
A30: When applying for an extension of the period of stay, I will submit documents proving the provision of living expenses and other support, such as remittance receipts or a copy of a bankbook in the applicant’s name.
A31: Details
A32: Item | B32: * For items (1) and (3), please select the applicable option. | D32: Amount (Foreign Currency) | E32: Currency(Please select) | F32: JPY Conversion Rate per Currency Unit | G32: JPY Equivalent (Do not enter. Calculated automatically.)
A33: (1) Tuition | D33: 0 | E33: EUR | F33: =_xlfn.XLOOKUP(E33,レート表!$A$2:$A$18,レート表!$C$2:$C$18,"") -> 178.92 | G33: =IF(OR(D33="",F33=""),"",ROUND(D33*F33,0)) -> 0
A34: (2) Living Expenses | B34: Monthly Amount | D34: 3000 | E34: EUR | F34: =_xlfn.XLOOKUP(E34,レート表!$A$2:$A$18,レート表!$C$2:$C$18,"") -> 178.92 | G34: =IF(OR(D34="",F34=""),"",ROUND(D34*F34,0)) -> 536760
A35: (3) Method of Support
A37: Financial Supporter Information
A38: Address | B38: ３－７－５Toyosu, Koto-ku, Tokyo, JAPAN | D38: Contact Details | E38: shibaurataro@gmail.com
A39: Name (Handwritten Signature) | B39: 芝浦太郎 [Relationship to Applicant (same as ③-1 above): FATHER ]
A42: Financial Supporter 2
A43: I, (Finalcial supporter's full name), hereby pledge to financially support the above applicant during their stay in Japan as specified below.
A44: When applying for an extension of the period of stay, I will submit documents proving the provision of living expenses and other support, such as remittance receipts or a copy of a bankbook in the applicant’s name.
A45: Details
A46: Item | B46: * For items (1) and (3), please select the applicable option. | D46: Amount (Foreign Currency) | E46: Currency | F46: Exchange Rate (JPY/Currency) | G46: JPY Equivalent
...

Sheet レート表
A1: 通貨コード | B1: 通貨名 | C1: 円換算 | D1: 20261001ver
A2: JPY | B2: 日本円 | C2: 1
A3: USD | B3: 米ドル | C3: 157.84
A4: EUR | B4: ユーロ | C4: 178.92
A5: CNY | B5: 中国人民元 | C5: 23.541
A6: KRW | B6: 韓国ウォン | C6: 0.116
A7: GBP | B7: 英ポンド | C7: 209.48
A8: AUD | B8: 豪ドル | C8: 109.66
A9: CAD | B9: カナダドル | C9: 110.88
A10: SGD | B10: シンガポールドル | C10: 123.46
A11: THB | B11: タイバーツ | C11: 4.695
A12: VND | B12: ベトナムドン | C12: 0.006
A13: INR | B13: インドルピー | C13: 1.638
... A18: CHF | B18: スイスフラン | C18: 189.12
