Workbook

Sheet 経費支弁計画書
G1: 芝浦工業大学 学部入試
F2: 受験番号 | G2: （大学使用欄）
A3: 留学経費支弁計画書（経費支弁書）
A4: 芝浦工業大学長 殿
A5: 学部 | D5: フリガナ
D6: 志願者氏名 （パスポート表記）
A7: 課程・学科 | D7: 生年月日 | E7: 年 月 日生
A8: コース | D8: 国籍
A10: 卒業までに必要な費用（2026年9月現在）
C11: 金額（円）
A12: 入学金 | C12: 280000
A13: 1年目の授業料等 | C13: 1515020
A14: 2年目の授業料等 | C14: 1505020
A15: 3年目の授業料等 | C15: 1605020
A16: 4年目の授業料等 | C16: 1645020
A17: 生活費（13万円／月 × 48か月分） | C17: =130000*12*4 -> 6240000 | E17: ※ 生活費13万円は一般的な目安です。
A18: 修了までに必要な費用の合計 | C18: =SUM(C12:C17) -> 12790080
A19: 以下を読み、□にチェックを入れてください。
A20: □ 芝浦工業大学に留学する間の総費用について、下記のとおり支弁することを誓約します。
A22: ※在学期間（4年間）の合計額をそれぞれ記入すること。
A23: 入力方法：金額（外貨額）・通貨単位を入力すると円換算額が自動計算される。
A24: 通貨単位がプルダウンに無い場合はJPYかUSDを選択し、予算残高証明書の通過単位もJPYかUSDに揃えること。
A25: 支弁者 （該当するものに☑） | B25: 支弁に関する詳細 | D25: 金額（外貨額） | E25: 通貨単位 | F25: 1通貨単位あたりの円換算レート | G25: 円換算額（自動計算）
A26: ☐志願者本人による支弁 | B26: ① 個人貯蓄 | E26: JPY | F26: =_xlfn.XLOOKUP(E26,レート表!$A$2:$A$18,レート表!$C$2:$C$18,"") -> 1 | G26: =IF(OR(D26="",F26=""),"",ROUND(D26*F26,0))
B27: ② その他（詳細： ） | E27: JPY | F27: =_xlfn.XLOOKUP(E27,レート表!$A$2:$A$18,レート表!$C$2:$C$18,"") -> 1 | G27: =IF(OR(D27="",F27=""),"",ROUND(D27*F27,0))
A28: ☐志願者本人以外からの支弁 | B28: ③-1 両親・または親族等（関係： ） | E28: JPY | F28: =_xlfn.XLOOKUP(E28,レート表!$A$2:$A$18,レート表!$C$2:$C$18,"") -> 1 | G28: =IF(OR(D28="",F28=""),"",ROUND(D28*F28,0))
B29: ③-2 両親・または親族等（関係： ） | E29: JPY | F29: =_xlfn.XLOOKUP(E29,レート表!$A$2:$A$18,レート表!$C$2:$C$18,"") -> 1
B30: ③-3 両親・または親族等（関係： ） | E30: JPY | F30: =_xlfn.XLOOKUP(E30,レート表!$A$2:$A$18,レート表!$C$2:$C$18,"") -> 1
B31: ④政府または その他財団 ※奨学金受給証明書の原本（スキャンデータ）を本書類に結合して提出すること | C31: 日本政府奨学金(MEXT) | E31: JPY | F31: =_xlfn.XLOOKUP(E31,レート表!$A$2:$A$18,レート表!$C$2:$C$18,"") -> 1 | G31: =IF(OR(D31="",F31=""),"",ROUND(D31*F31,0))
C32: 本学奨学金 | E32: JPY | F32: =_xlfn.XLOOKUP(E32,レート表!$A$2:$A$18,レート表!$C$2:$C$18,"") -> 1
C33: その他財団 （名称： ） | E33: JPY | F33: =_xlfn.XLOOKUP(E33,レート表!$A$2:$A$18,レート表!$C$2:$C$18,"") -> 1 | G33: =IF(OR(D33="",F33=""),"",ROUND(D33*F33,0))
A34: 合計（①～④） | G34: =SUM(G26:G33) -> 0
A37: 上記において③の支弁に該当する場合、支弁者の直筆署名および捺印を受けて提出してください。支弁者が複数人いる場合には人数分の直筆署名および捺印を受けること。
A38: ※経費支弁者本人の自署によるものに限る。
A40: 支弁者1人目
A41: 私 は、上記志願者の日本国滞在において、下記のとおり経費支弁することを誓約します。
A42: また、在留資格期間更新許可申請を行う際は、送金証明書又は本人名義の預金通帳の写し等で、生活費等の支弁事実を明らかにする書類を提出します。
A43: 記
A44: 項目 | B44: チェック欄 ※（1）（3）は該当するものに☑ | D44: 金額（外貨額） | E44: 通貨単位 | F44: 1通貨単位あたりの円換算レート | G44: 円換算額
A45: (1) 学費 | B45: ☐毎月 ☐半年ごと ☐年間 | E45: JPY | F45: =_xlfn.XLOOKUP(E45,レート表!$A$2:$A$18,レート表!$C$2:$C$18,"") -> 1 | G45: =IF(OR(D45="",F45=""),"",ROUND(D45*F45,0))
...

Sheet レート表
A1: 通貨コード | B1: 通貨名 | C1: 円換算 | D1: 260801時点
A2: JPY | B2: 日本円 | C2: 1
A3: USD | B3: 米ドル | C3: 156.5
A4: EUR | B4: ユーロ | C4: 180.54
A5: CNY | B5: 中国人民元 | C5: 23.18
A6: KRW | B6: 韓国ウォン | C6: 0.109
A7: GBP | B7: 英ポンド | C7: 210.64
A8: AUD | B8: 豪ドル | C8: 109.85
A9: CAD | B9: カナダドル | C9: 111.25
A10: SGD | B10: シンガポールドル | C10: 122.08
A11: THB | B11: タイバーツ | C11: 4.7
A12: VND | B12: ベトナムドン | C12: 0.006
A13: INR | B13: インドルピー | C13: 1.64
... A18: CHF | B18: スイスフラン | C18: 193.45
